BEGIN:VCALENDAR
VERSION:2.0
PRODID:-//EventGlide Pro - ECPv6.15.20//NONSGML v1.0//EN
CALSCALE:GREGORIAN
METHOD:PUBLISH
X-WR-CALNAME:EventGlide Pro
X-ORIGINAL-URL:https://egp.mywptrek.com
X-WR-CALDESC:Events for EventGlide Pro
REFRESH-INTERVAL;VALUE=DURATION:PT1H
X-Robots-Tag:noindex
X-PUBLISHED-TTL:PT1H
BEGIN:VTIMEZONE
TZID:Asia/Kathmandu
BEGIN:STANDARD
TZOFFSETFROM:+0545
TZOFFSETTO:+0545
TZNAME:+0545
DTSTART:20250101T000000
END:STANDARD
END:VTIMEZONE
BEGIN:VEVENT
DTSTART;TZID=Asia/Kathmandu:20260629T233119
DTEND;TZID=Asia/Kathmandu:20260630T021919
DTSTAMP:20260420T001215
CREATED:20231002T021403Z
LAST-MODIFIED:20260418T070012Z
UID:80-1782775879-1782785959@egp.mywptrek.com
SUMMARY:Kitten Adoption Day
DESCRIPTION:I’ve done everything the Bible says — even the stuff that contradicts the other stuff! Our differences are only skin deep\, but our sames go down to the bone. And now\, in the spirit of the season: start shopping. And for every dollar of Krusty merchandise you buy\, I will be nice to a sick kid. For legal purposes\, sick kids may include hookers with a cold. And here I am using my own lungs like a sucker. What good is money if it can’t inspire terror in your fellow man? Homer no function beer well without.
URL:https://egp.mywptrek.com/event/kitten-adoption-day/
LOCATION:Winchester Mystery House\, 525 S Winchester Blvd\, San Jose\, 95128\, United States
CATEGORIES:Family Fun
ATTACH;FMTTYPE=image/jpeg:https://egp.mywptrek.com/wp-content/uploads/2023/10/drums-ga8353b99f_1280.jpg
ORGANIZER;CN="Barney Stinson":MAILTO:barney@legendary.com
END:VEVENT
END:VCALENDAR