BEGIN:VCALENDAR
VERSION:2.0
PRODID:-//EventGlide Pro - ECPv6.15.20//NONSGML v1.0//EN
CALSCALE:GREGORIAN
METHOD:PUBLISH
X-WR-CALNAME:EventGlide Pro
X-ORIGINAL-URL:https://egp.mywptrek.com
X-WR-CALDESC:Events for EventGlide Pro
REFRESH-INTERVAL;VALUE=DURATION:PT1H
X-Robots-Tag:noindex
X-PUBLISHED-TTL:PT1H
BEGIN:VTIMEZONE
TZID:Asia/Kathmandu
BEGIN:STANDARD
TZOFFSETFROM:+0545
TZOFFSETTO:+0545
TZNAME:+0545
DTSTART:20250101T000000
END:STANDARD
END:VTIMEZONE
BEGIN:VEVENT
DTSTART;TZID=Asia/Kathmandu:20260628T145345
DTEND;TZID=Asia/Kathmandu:20260628T174145
DTSTAMP:20260419T181604
CREATED:20231002T021402Z
LAST-MODIFIED:20260418T070012Z
UID:78-1782658425-1782668505@egp.mywptrek.com
SUMMARY:Dinner Party
DESCRIPTION:Look\, my liege! Shut up! Will you shut up?! What a strange person. But you are dressed as one…I blow my nose at you\, so-called Ah-thoor Keeng\, you and all your silly English K-n-n-n-n-n-n-n-niggits! The Lady of the Lake\, her arm clad in the purest shimmering samite\, held aloft Excalibur from the bosom of the water\, signifying by divine providence that I\, Arthur\, was to carry Excalibur. That is why I am your king.
URL:https://egp.mywptrek.com/event/dinner-party/
LOCATION:The Corn Palace\, 601 N Main St\, Mitchell\, 57301\, United States
CATEGORIES:Party
ATTACH;FMTTYPE=image/jpeg:https://egp.mywptrek.com/wp-content/uploads/2023/10/home-bg.jpg
ORGANIZER;CN="Mr. Ed":MAILTO:neigh@gmail.com
END:VEVENT
END:VCALENDAR